BEGIN:VCALENDAR
VERSION:2.0
PRODID:-//jEvents 2.0 for Joomla//EN
CALSCALE:GREGORIAN
METHOD:PUBLISH
BEGIN:VEVENT
UID:5fccf0869a5713b8ef950940021d8555
CATEGORIES:Wettkämpfe
CREATED:20240203T161100
SUMMARY:Uster Mehrkampf
LOCATION:Sportanlage Buchholz\, Uster
DESCRIPTION:
DTSTAMP:20260426T034555
DTSTART;VALUE=DATE:20240928
DTEND;VALUE=DATE:20240930
SEQUENCE:0
TRANSP:OPAQUE
END:VEVENT
END:VCALENDAR